BEGIN:VCALENDAR
VERSION:2.0
PRODID:-//https://equa.se///NONSGML kigkonsult.se iCalcreator 2.10.15//
METHOD:PUBLISH
BEGIN:VEVENT
UID:20260423T145552CEST-7151lcgi4c@https://equa.se/
DTSTAMP:20260423T125552Z
DESCRIPTION:&nbsp\;\nThe purpose of the course is to provide basic and cent
 ral knowledge of IDA ICE\, enabling you to work independently and efficien
 tly with the program’s most important functions. In addition\, we implemen
 t the new Danish localization\, which significantly streamlines the simula
 tion process for indoor climate and daylight calculations\, in accordance 
 with the ‘Branchevejledning for Indeklima - Nybyggeri og Renovering’.\nDur
 ing the course\, we will thoroughly review the three types of simulations:
  comfort\, power\, and daylight. In addition\, we will briefly cover energ
 y simulations in IDA ICE. Joint walkthroughs will be combined with exercis
 es in which you will work on\, among other things\, the following elements
 :\n\nBuilding Geometry - Both simplified and more advanced geometry\, incl
 uding roof geometry.\nImport Types - Various import formats such as DWG\, 
 SketchUp\, images\, and IFC.\nBuilding Envelope Construction\nWindows\, so
 lar shading\, and surrounding shading elements.\nVentilation and Airflow -
  Natural and mechanical ventilation\, as well as air leakage.\nThermal Bri
 dges and Ground Conditions\nReports and Visualization of results\nSimulati
 on Types - Comfort\, load (power)\, daylight and briefly about energy.\nDa
 nish localization\, indoor climate and daylight - “the 300 Lux method”\n\n
 &nbsp\;\nNumber of days: 2Dates: Tuesday–Wednesday\, 2–3 June 2026Time: 09
 :00–16:00Location: Copenhagen\, details to be announced Price: 900 €Langua
 ge: EnglishSoftware: IDA ICE 5.2 Expert and Localization DenmarkTarget gro
 up: BeginnersCourse Instructors: Magnus Åstrand and Jörgen Eriksson\, EQUA
  Solutions AB\n&nbsp\;\nTo register for the course\, click the button “Reg
 istration” at the top of the page.Note!&nbsp\;Last day of registration is&
 nbsp\;Wednesday\, 27 May\, 2026. https://equa.se/en/events/upcoming/sweden
 /event/1471-ida-ice-basic-course-in-denmark
DTSTART:20260602T090000Z
DTEND:20260603T160000Z
LOCATION:Copenhagen\, Denmark ()
SUMMARY:IDA ICE basic course in Denmark
URL:https://equa.se/en/events/upcoming/sweden/event/1471-ida-ice-basic-cour
 se-in-denmark
END:VEVENT
END:VCALENDAR
