BEGIN:VCALENDAR
VERSION:2.0
PRODID:-//https://equa.se///NONSGML kigkonsult.se iCalcreator 2.10.15//
METHOD:PUBLISH
BEGIN:VEVENT
UID:20260423T145704CEST-5564tO7sRJ@https://equa.se/
DTSTAMP:20260423T125704Z
DESCRIPTION:&nbsp\;\n&nbsp\;\nThe purpose of the course is to provide knowl
 edge about more advanced functions in IDA ICE that will help Danish engine
 ers to be more efficient and more accurate in their modelling.\n\nJoint wa
 lkthroughs will be combined with exercises in which you will work on\, amo
 ng other things\, the following elements:Zone model fidelity - How do they
  differ\, and when should each one be used?\n\nEnergy\, Climate\, Climate 
 (with stratification)\nBrief walkthrough of the CFD extension in IDA ICE\n
 \n\nIntroduction to the new Danish localization\, indoor climate and dayli
 ght - the 300 Lux method\nBIM import\, by IFC\nUsing and understanding pre
 -defined controls (e.g. P and PI) for different applications such as venti
 lation\, heating\, cooling etc.\nCreate your own custom control\, e.g. for
  window opening\nCreate a custom control using air speed or draught rate a
 s set point\nHow to model outdoor compensation for supply air temperature 
 setpoint\nIntroduction to parametric runs\n\nNumber of days:&nbsp\;1Dates:
  Thursday\, 4 June 2026Time: 09:00–16:00Location: Copenhagen\, details to 
 be announced Price: 450 €Language: EnglishSoftware: IDA ICE 5.2 Expert and
  Localization DenmarkTarget group:&nbsp\;Intermediate or some previous exp
 erience in IDA ICECourse Instructors: Magnus Åstrand and Jörgen Eriksson\,
  EQUA Solutions AB\nTo register for the course\, click the button “Registr
 ation” at the top of the page.Note!&nbsp\;Last day of registration is&nbsp
 \;Thursday\, 28 May\, 2026. https://equa.se/en/events/upcoming/sweden/even
 t/1472-ida-ice-intermediate-course-in-denmark
DTSTART:20260604T090000Z
DTEND:20260604T160000Z
LOCATION:Copenhagen\, Denmark ()
SUMMARY:IDA ICE intermediate course in Denmark
URL:https://equa.se/en/events/upcoming/sweden/event/1472-ida-ice-intermedia
 te-course-in-denmark
END:VEVENT
END:VCALENDAR
